BEGIN:VCALENDAR
VERSION:2.0
PRODID:-//CRAG - ECPv6.15.17.1//NONSGML v1.0//EN
CALSCALE:GREGORIAN
METHOD:PUBLISH
X-WR-CALNAME:CRAG
X-ORIGINAL-URL:https://cragallery.com
X-WR-CALDESC:Events for CRAG
REFRESH-INTERVAL;VALUE=DURATION:PT1H
X-Robots-Tag:noindex
X-PUBLISHED-TTL:PT1H
BEGIN:VTIMEZONE
TZID:Europe/Rome
BEGIN:DAYLIGHT
TZOFFSETFROM:+0100
TZOFFSETTO:+0200
TZNAME:CEST
DTSTART:20150329T010000
END:DAYLIGHT
BEGIN:STANDARD
TZOFFSETFROM:+0200
TZOFFSETTO:+0100
TZNAME:CET
DTSTART:20151025T010000
END:STANDARD
BEGIN:DAYLIGHT
TZOFFSETFROM:+0100
TZOFFSETTO:+0200
TZNAME:CEST
DTSTART:20160327T010000
END:DAYLIGHT
BEGIN:STANDARD
TZOFFSETFROM:+0200
TZOFFSETTO:+0100
TZNAME:CET
DTSTART:20161030T010000
END:STANDARD
BEGIN:DAYLIGHT
TZOFFSETFROM:+0100
TZOFFSETTO:+0200
TZNAME:CEST
DTSTART:20170326T010000
END:DAYLIGHT
BEGIN:STANDARD
TZOFFSETFROM:+0200
TZOFFSETTO:+0100
TZNAME:CET
DTSTART:20171029T010000
END:STANDARD
BEGIN:DAYLIGHT
TZOFFSETFROM:+0100
TZOFFSETTO:+0200
TZNAME:CEST
DTSTART:20180325T010000
END:DAYLIGHT
BEGIN:STANDARD
TZOFFSETFROM:+0200
TZOFFSETTO:+0100
TZNAME:CET
DTSTART:20181028T010000
END:STANDARD
BEGIN:DAYLIGHT
TZOFFSETFROM:+0100
TZOFFSETTO:+0200
TZNAME:CEST
DTSTART:20190331T010000
END:DAYLIGHT
BEGIN:STANDARD
TZOFFSETFROM:+0200
TZOFFSETTO:+0100
TZNAME:CET
DTSTART:20191027T010000
END:STANDARD
BEGIN:DAYLIGHT
TZOFFSETFROM:+0100
TZOFFSETTO:+0200
TZNAME:CEST
DTSTART:20200329T010000
END:DAYLIGHT
BEGIN:STANDARD
TZOFFSETFROM:+0200
TZOFFSETTO:+0100
TZNAME:CET
DTSTART:20201025T010000
END:STANDARD
BEGIN:DAYLIGHT
TZOFFSETFROM:+0100
TZOFFSETTO:+0200
TZNAME:CEST
DTSTART:20210328T010000
END:DAYLIGHT
BEGIN:STANDARD
TZOFFSETFROM:+0200
TZOFFSETTO:+0100
TZNAME:CET
DTSTART:20211031T010000
END:STANDARD
BEGIN:DAYLIGHT
TZOFFSETFROM:+0100
TZOFFSETTO:+0200
TZNAME:CEST
DTSTART:20220327T010000
END:DAYLIGHT
BEGIN:STANDARD
TZOFFSETFROM:+0200
TZOFFSETTO:+0100
TZNAME:CET
DTSTART:20221030T010000
END:STANDARD
BEGIN:DAYLIGHT
TZOFFSETFROM:+0100
TZOFFSETTO:+0200
TZNAME:CEST
DTSTART:20230326T010000
END:DAYLIGHT
BEGIN:STANDARD
TZOFFSETFROM:+0200
TZOFFSETTO:+0100
TZNAME:CET
DTSTART:20231029T010000
END:STANDARD
BEGIN:DAYLIGHT
TZOFFSETFROM:+0100
TZOFFSETTO:+0200
TZNAME:CEST
DTSTART:20240331T010000
END:DAYLIGHT
BEGIN:STANDARD
TZOFFSETFROM:+0200
TZOFFSETTO:+0100
TZNAME:CET
DTSTART:20241027T010000
END:STANDARD
BEGIN:DAYLIGHT
TZOFFSETFROM:+0100
TZOFFSETTO:+0200
TZNAME:CEST
DTSTART:20250330T010000
END:DAYLIGHT
BEGIN:STANDARD
TZOFFSETFROM:+0200
TZOFFSETTO:+0100
TZNAME:CET
DTSTART:20251026T010000
END:STANDARD
BEGIN:DAYLIGHT
TZOFFSETFROM:+0100
TZOFFSETTO:+0200
TZNAME:CEST
DTSTART:20260329T010000
END:DAYLIGHT
BEGIN:STANDARD
TZOFFSETFROM:+0200
TZOFFSETTO:+0100
TZNAME:CET
DTSTART:20261025T010000
END:STANDARD
BEGIN:DAYLIGHT
TZOFFSETFROM:+0100
TZOFFSETTO:+0200
TZNAME:CEST
DTSTART:20270328T010000
END:DAYLIGHT
BEGIN:STANDARD
TZOFFSETFROM:+0200
TZOFFSETTO:+0100
TZNAME:CET
DTSTART:20271031T010000
END:STANDARD
END:VTIMEZONE
BEGIN:VTIMEZONE
TZID:UTC
BEGIN:STANDARD
TZOFFSETFROM:+0000
TZOFFSETTO:+0000
TZNAME:UTC
DTSTART:20210101T000000
END:STANDARD
END:VTIMEZONE
BEGIN:VEVENT
DTSTART;TZID=Europe/Rome:20260316T080000
DTEND;TZID=Europe/Rome:20260316T170000
DTSTAMP:20260421T171911
CREATED:20260316T114954Z
LAST-MODIFIED:20260414T205400Z
UID:6698-1773648000-1773680400@cragallery.com
SUMMARY:MEGA ART FAIR - MILANO
DESCRIPTION:We are pleased to take part to MEGA ART FAIR IN MILANO with the artist GIACOMO MODOLO. \nWe will present the \nInside the Flag: 1.5 × 2 meter diptych stands as one of the most current expressions of the research of Giacomo Modolo\, a Vicenza-born artist from the class of 1988. His painting—always figurative yet traversed by abstract contaminations and deeply influenced by historical and contemporary events—finds in this work a sort of manifesto: an investigation into the contemporary need to belong to something in order to feel part of history. \nIn the painting\, the space that hosts the figures merges with the decorations of a hypothetical flag\, cancelling depth and perspective. Any clear distinction between what belongs to the colored fabric and what is real disappears: the environment and the figures themselves are permeated by the same chromatic contamination. Within this carnivalesque scenario\, a kind of ritual seems to unfold\, punctuated by the presence of small fires that at times transform into vegetal elements. \nInside the Flag thus becomes an immersive experience: being the flag and\, at the same time\, being the environment that inhabits it\, until every boundary between individual identity and collective symbol dissolves.
URL:https://cragallery.com/event/mega-art-fair-milano/
CATEGORIES:fairs
END:VEVENT
BEGIN:VEVENT
DTSTART;TZID=Europe/Rome:20260118T080000
DTEND;TZID=Europe/Rome:20260118T170000
DTSTAMP:20260421T171911
CREATED:20260118T085209Z
LAST-MODIFIED:20260118T085209Z
UID:6643-1768723200-1768755600@cragallery.com
SUMMARY:ART COLOGNE PALMA 2026
DESCRIPTION:We are delighted to partecipate to ART COLOGNE PALMA 2026 \nhttps://www.artcologne.com/palma/galleries.php
URL:https://cragallery.com/event/art-cologne-palma-2026/
CATEGORIES:fairs
END:VEVENT
BEGIN:VEVENT
DTSTART;TZID=Europe/Rome:20250508T080000
DTEND;TZID=Europe/Rome:20250511T170000
DTSTAMP:20260421T171911
CREATED:20250414T144536Z
LAST-MODIFIED:20250414T151341Z
UID:6195-1746691200-1746982800@cragallery.com
SUMMARY:THE PHAIR 2025
DESCRIPTION:CRAG Gallery is pleased to partecipate to the PHAIR 2025 with the artists \nALESSANDRO FABBRIS \nNICOLO’ RICCI \nDANI GHERCA \nCHIARA FERRANDO
URL:https://cragallery.com/event/the-phair-2025/
CATEGORIES:fairs
END:VEVENT
BEGIN:VEVENT
DTSTART;TZID=Europe/Rome:20240501T080000
DTEND;TZID=Europe/Rome:20240501T170000
DTSTAMP:20260421T171911
CREATED:20240501T152313Z
LAST-MODIFIED:20240501T152313Z
UID:5615-1714550400-1714582800@cragallery.com
SUMMARY:THE PHAIR 2024
DESCRIPTION: 
URL:https://cragallery.com/event/the-phair-2024/
CATEGORIES:fairs
END:VEVENT
BEGIN:VEVENT
DTSTART;TZID=Europe/Rome:20231012T080000
DTEND;TZID=Europe/Rome:20231012T170000
DTSTAMP:20260421T171911
CREATED:20231012T152137Z
LAST-MODIFIED:20231015T092707Z
UID:5353-1697097600-1697130000@cragallery.com
SUMMARY:ART VERONA 2023
DESCRIPTION:CRAG GALLERY is pleased to partecipate at ARTVERONA 2023 with the artist Luca Coser\, Roger Coll and Giacomo Modolo. \nYou’ll find us at Pavillion 12 – Stand L4.
URL:https://cragallery.com/event/art-verona-2023/
CATEGORIES:fairs
END:VEVENT
BEGIN:VEVENT
DTSTART;TZID=Europe/Rome:20230703T080000
DTEND;TZID=Europe/Rome:20230703T170000
DTSTAMP:20260421T171911
CREATED:20230703T130752Z
LAST-MODIFIED:20230725T151751Z
UID:5213-1688371200-1688403600@cragallery.com
SUMMARY:Roma Arte In Nuvola 2023
DESCRIPTION:CRAG is pleased to announce the participation at the Roma Arte in Nuvola Fair from November 23rd to the 26th with a solo show of the artist Roger Coll (https://cragallery.com/artists/roger-coll/) \nfor more info https://romaarteinnuvola.eu/
URL:https://cragallery.com/event/roma-arte-in-nuvola/
CATEGORIES:fairs
END:VEVENT
BEGIN:VEVENT
DTSTART;TZID=UTC:20221013T080000
DTEND;TZID=UTC:20221016T170000
DTSTAMP:20260421T171911
CREATED:20221009T202809Z
LAST-MODIFIED:20221010T084049Z
UID:4595-1665648000-1665939600@cragallery.com
SUMMARY:ARTVERONA 2022
DESCRIPTION:CRAG GALLERY riconferma la partecipazione ad ARTVERONA 2022 con le artiste\nLaura Omacini\, Ilaria Simeoni ed Elisabetta Mariuzzo.\n\nSTAND 7 SEZIONE NEXT – PAD. 12\n\ninfo su https://artverona.it/\n\n  \n\nElisabetta Mariuzzo\n\n\nLaura Omacini\n\n\nIlaria Simeoni
URL:https://cragallery.com/event/artverona-2022/
CATEGORIES:fairs
END:VEVENT
BEGIN:VEVENT
DTSTART;TZID=UTC:20220519T080000
DTEND;TZID=UTC:20220519T170000
DTSTAMP:20260421T171911
CREATED:20220519T140520Z
LAST-MODIFIED:20220519T140520Z
UID:4440-1652947200-1652979600@cragallery.com
SUMMARY:THE PHAIR 2022
DESCRIPTION:  \nCRAG Gallery is pleased to partecipate again to The Phair 2022 dedicated to photography\, with the artworks by Alessandro Fabbris\, Filippo Bosso\, Enrico Smerilli and Elisabetta Mariuzzo. \n  \n 
URL:https://cragallery.com/event/the-phair-2022/
CATEGORIES:fairs
END:VEVENT
BEGIN:VEVENT
DTSTART;TZID=Europe/Rome:20211015T080000
DTEND;TZID=Europe/Rome:20211017T170000
DTSTAMP:20260421T171911
CREATED:20210910T152525Z
LAST-MODIFIED:20211019T095250Z
UID:3955-1634284800-1634490000@cragallery.com
SUMMARY:ArtVerona 2021
DESCRIPTION:  \nCRAG Gallery is please to the present the artists Chen Li\, bn+BRINANOVARA \nand Laura Omacini at Artverona 2021. \n  \n  \nYou’ll find us at PADIGLIONE 12 Stand NE4 \n  \n \n 
URL:https://cragallery.com/event/artverona-2021/
CATEGORIES:fairs
END:VEVENT
BEGIN:VEVENT
DTSTART;TZID=Europe/Rome:20211009T080000
DTEND;TZID=Europe/Rome:20211009T170000
DTSTAMP:20260421T171911
CREATED:20211009T151658Z
LAST-MODIFIED:20211009T151658Z
UID:3968-1633766400-1633798800@cragallery.com
SUMMARY:The Others 2021
DESCRIPTION:  \nCRAG is pleased to take part to The Others 2021  with the artists bn+BRINANOVARA\, \nDiego Zangirolami e Federico Caputo.
URL:https://cragallery.com/event/the-others-2021/
CATEGORIES:fairs
END:VEVENT
BEGIN:VEVENT
DTSTART;TZID=Europe/Rome:20210612T080000
DTEND;TZID=Europe/Rome:20210612T170000
DTSTAMP:20260421T171911
CREATED:20210612T105714Z
LAST-MODIFIED:20210612T105714Z
UID:3804-1623484800-1623517200@cragallery.com
SUMMARY:The Phair 2021
DESCRIPTION:The Phair è una fiera a inviti. Un’attenta scelta curatoriale garantisce la selezione di una proposta organica non suddivisa in temi e sezioni ma come un’unica esperienza espositiva; spazi espositivi uguali per tutti garantiscono un allestimento “sartoriale” più simile a una serie di mostre che a un impianto fieristico\, fornendo nuove modalità di fruizione\, conoscenza e valorizzazione delle opere proposte. \nThe Phair is an invitation-only art fair. The curatorial choice guarantees the participation of most prestigious contemporary art galleries – and not just those already specialized in photography projects – which\, on the occasion of the fair\, present artistic works related to the theme of the image and works created with photographic or video material. . \n 
URL:https://cragallery.com/event/the-phair-2021/
CATEGORIES:fairs
END:VEVENT
BEGIN:VEVENT
DTSTART;TZID=Europe/Rome:20201102T080000
DTEND;TZID=Europe/Rome:20201102T170000
DTSTAMP:20260421T171911
CREATED:20201102T083809Z
LAST-MODIFIED:20201102T083809Z
UID:3472-1604304000-1604336400@cragallery.com
SUMMARY:ARTVERONA 2020
DESCRIPTION:
URL:https://cragallery.com/event/artverona-2020/
CATEGORIES:fairs
END:VEVENT
BEGIN:VEVENT
DTSTART;TZID=Europe/Rome:20200227T080000
DTEND;TZID=Europe/Rome:20200301T170000
DTSTAMP:20260421T171911
CREATED:20190927T081428Z
LAST-MODIFIED:20200320T132722Z
UID:2462-1582790400-1583082000@cragallery.com
SUMMARY:JUSTMAD 2020 - MADRID
DESCRIPTION:  \nWe are please to announce our participation to JUSTMAD Madrid from the 27th of February to the 3rd of March 2020 with the artists Diego Zangirolami and Luca Freschi. \n  \n  \n 
URL:https://cragallery.com/event/just-mad-madrid/
CATEGORIES:fairs
END:VEVENT
BEGIN:VEVENT
DTSTART;TZID=Europe/Rome:20191031T080000
DTEND;TZID=Europe/Rome:20191103T170000
DTSTAMP:20260421T171911
CREATED:20190910T163650Z
LAST-MODIFIED:20191018T114635Z
UID:2423-1572508800-1572800400@cragallery.com
SUMMARY:The other Art Fair 2019 - Turin
DESCRIPTION:Crag gallery is pleased to partecipate to The Others\, independent fair in Italy  dedicated to international emerging artists and to the latest trends in contemporary art. \nCrag Gallery will present the works by BN+ BrinaNovara\, Luca Freschi and Yoon Il Kwon. \nThis year the Fair will be in a new and beautiful location. \n\n\n\n2019 edition: at once an international art fair and a curatorial project\, a place for experimental formats of exhibitions and site-specific projects\, The Others 2019 goes beyond the traditional concept of fair. \n  \n\n\n\n 
URL:https://cragallery.com/event/art-fair-2019-turin/
CATEGORIES:fairs
END:VEVENT
BEGIN:VEVENT
DTSTART;TZID=Europe/Rome:20190723T080000
DTEND;TZID=Europe/Rome:20190723T170000
DTSTAMP:20260421T171911
CREATED:20190723T082837Z
LAST-MODIFIED:20200320T133852Z
UID:2389-1563868800-1563901200@cragallery.com
SUMMARY:Art Verona 2019
DESCRIPTION:Crag is please to announce the participation to Art Verona 2019 in the “Scouting” Section with the artists Giacomo Modolo\, Enrico Minguzzi and Paul De Flers. \n 
URL:https://cragallery.com/event/art-verona-2019/
CATEGORIES:fairs
END:VEVENT
BEGIN:VEVENT
DTSTART;TZID=Europe/Rome:20190114T080000
DTEND;TZID=Europe/Rome:20190120T170000
DTSTAMP:20260421T171911
CREATED:20190108T145713Z
LAST-MODIFIED:20190416T080702Z
UID:1925-1547452800-1548003600@cragallery.com
SUMMARY:London Art Fair 2019 - Art Projects
DESCRIPTION:  \nCRAG Gallery is proud to announce our participation to the 31st of the London Art Fair – Art Project Section from the 15-20 of January 2019 – STAND P26 – ART PROJECTS SECTION. \nArtists on display: Enrico Minguzzi\, Paul De Flers\, Giuliano Sale\, Luca Coser\, Silvia Argiolas. \n \n  \n \n  \n \n  \n \n 
URL:https://cragallery.com/event/london-art-fair-2019-art-projects/
CATEGORIES:fairs
END:VEVENT
BEGIN:VEVENT
DTSTART;VALUE=DATE:20170118
DTEND;VALUE=DATE:20170123
DTSTAMP:20260421T171911
CREATED:20170106T153021Z
LAST-MODIFIED:20190416T082048Z
UID:874-1484697600-1485129599@cragallery.com
SUMMARY:LONDON ART FAIR 2017 - ART PROJECTS SECTION
DESCRIPTION:  \nCRAG is pleased to take part to the London Art Fair in January 2017 in the Art Project Section\, from the 18th to 22nd January 2017. \nThe artists on display will be Alessandro Cardinale\, Zdenek Trs and Mattia Novello\, in the project “Is this Reality?”. \n  \n 
URL:https://cragallery.com/event/874/
LOCATION:Business Design Centre\, 52 Upper Street \, London\, United Kingdom
CATEGORIES:fairs
END:VEVENT
BEGIN:VEVENT
DTSTART;VALUE=DATE:20161014
DTEND;VALUE=DATE:20161018
DTSTAMP:20260421T171911
CREATED:20160926T101003Z
LAST-MODIFIED:20190821T165632Z
UID:630-1476403200-1476748799@cragallery.com
SUMMARY:ArtVerona 2016
DESCRIPTION:CRAG is pleased to take part to ArtVerona 2016\, one of the most important modern and contemporary art fair in Italy. \nWe will present a dialogue between the young artists Zdenek Trs (Prague\, 1985)\, Tomas Tichy (Prague\, 1984) and Giacomo Modolo (Vicenza\, 1988) with a project based on figurative paintings. \nYou can find us at Pavillion 11\, Stand A9. \nwww.artverona.it
URL:https://cragallery.com/event/artverona-2016/
CATEGORIES:fairs
END:VEVENT
BEGIN:VEVENT
DTSTART;TZID=Europe/Rome:20160930T080000
DTEND;TZID=Europe/Rome:20161031T175900
DTSTAMP:20260421T171911
CREATED:20160706T155754Z
LAST-MODIFIED:20190416T082501Z
UID:560-1475222400-1477936740@cragallery.com
SUMMARY:CONTEMPORARY ZURICH ART FAIR 2016
DESCRIPTION:CRAG Gallery is pleased to announce the participation to The Contemporary Art Fair Zurich\, a popular and well-established art far in Switzerland\, since 1999. \nThe project that CRAG Gallery will present includes works by four emerging artists represented by the gallery: Alessandro Cardinale\, Giacomo Modolo\, Diego Zangirolami and Tomas Tichy. \nThe works of these artists are united by a dialogue which includes on one side faces and portraits and on the other side landscapes\, sometimes merged. \nCRAG will present the works of Alessandro Cardinale (Padua\, 1977) and in particular those of its latest production. The NU SHU series is characterised by the representation of Chinese women’s faces inspired by the artist’s last trip to China\, a country where he has repeatedly exhibited after winning the International Section of the Biennial of Beijing in 2012. These works\, which reveal the formation of the artist as a sculptor\, are made of different materials\, such as wood\, iron and cotton and they are the result of a meticulous hand made work through the cut out of the lines that re-create the images. Observing from afar the works you will notice the faces\, but if you look closely you have only the perception of how the structure is made. Then we will propose an installation of small-scale works by the painters Giacomo Modolo (Vicenza\, 1988) and Diego Zangirolami (Turin\, 1984). We want to combine faces made on canvas\, board\, paper that are the result of the great compositional and expressive skills of Modolo\, as well as his colour research. The artist\, oriented towards a figurative painting\, gestural\, impulsive but in absolut balanced synthesis\, is punctuated by two thumbnails of Diego Zangirolami who\, in his works that are mainly landscapes\, combines literary\, poetic\, mythological\, historical and cultural elements with a new approach and through an interesting integration between painting and architecture.Finally\, we will display the works by Tomas Tichy (Prague\, 1984)\, painter\, with a work that combines landscape and people\, to close the circle. The space in this case is merely a side\, sometimes not perceived if it is internal or external\, if it is real or if it’s photographic\, while the subjects represented in his paintings look at us no longer\, they live their present and we face the picture as if we were spying on them from a window. It is an interesting pictorial work\, also for the content\, combining classicism to modernity. \n 
URL:https://cragallery.com/event/contemporary-art-zurich-2016/
CATEGORIES:fairs
END:VEVENT
END:VCALENDAR