BEGIN:VCALENDAR
VERSION:2.0
PRODID:-//CRAG - ECPv6.15.17.1//NONSGML v1.0//EN
CALSCALE:GREGORIAN
METHOD:PUBLISH
X-WR-CALNAME:CRAG
X-ORIGINAL-URL:https://cragallery.com
X-WR-CALDESC:Events for CRAG
REFRESH-INTERVAL;VALUE=DURATION:PT1H
X-Robots-Tag:noindex
X-PUBLISHED-TTL:PT1H
BEGIN:VTIMEZONE
TZID:Europe/Rome
BEGIN:DAYLIGHT
TZOFFSETFROM:+0100
TZOFFSETTO:+0200
TZNAME:CEST
DTSTART:20200329T010000
END:DAYLIGHT
BEGIN:STANDARD
TZOFFSETFROM:+0200
TZOFFSETTO:+0100
TZNAME:CET
DTSTART:20201025T010000
END:STANDARD
BEGIN:DAYLIGHT
TZOFFSETFROM:+0100
TZOFFSETTO:+0200
TZNAME:CEST
DTSTART:20210328T010000
END:DAYLIGHT
BEGIN:STANDARD
TZOFFSETFROM:+0200
TZOFFSETTO:+0100
TZNAME:CET
DTSTART:20211031T010000
END:STANDARD
BEGIN:DAYLIGHT
TZOFFSETFROM:+0100
TZOFFSETTO:+0200
TZNAME:CEST
DTSTART:20220327T010000
END:DAYLIGHT
BEGIN:STANDARD
TZOFFSETFROM:+0200
TZOFFSETTO:+0100
TZNAME:CET
DTSTART:20221030T010000
END:STANDARD
END:VTIMEZONE
BEGIN:VEVENT
DTSTART;TZID=Europe/Rome:20211027T080000
DTEND;TZID=Europe/Rome:20211128T170000
DTSTAMP:20260424T122929
CREATED:20211019T103322Z
LAST-MODIFIED:20220112T100826Z
UID:4017-1635321600-1638118800@cragallery.com
SUMMARY:Luca Coser - Morgana
DESCRIPTION:  \nMORGANA \nMostra personale di Luca Coser  \nTORINO\, CRAG- CHIONO REISOVA ART GALLERY HOME GALLERY – Via Maria Vittoria 45 \n28 ottobre – 27 novembre 2021 \nInaugurazione 28 ottobre ore 15-21 \nCrag – Chiono Reisovà art gallery presenta Morgana\, personale dell’artista Luca Coser dal 28 ottobre al 27 novembre in occasione di Artissima. \nIn mostra un recente ciclo di opere pittoriche dell’artista che\, presente sulla scena artistica nazionale ed internazionale da più di 30 anni\, è docente di Disegno per l’Arte Contemporanea all’Accademia di Belle Arti di Brera a Milano. \nIl titolo “Morgana” si riferisce al dipinto guida in mostra che a sua volta cita un documentario sperimentale del regista Werner Herzog datato 1971. \nCon questa serie di lavori Luca Coser conferma una ricerca artistica perseguita da molti anni\, incentrata su una pittura lirica ed enigmatica\, a cavallo tra figurazione ed astrazione che in questi ultimissimi anni sta trovando conferma nel rinnovato interesse per la pittura tra le nuove generazioni. Recentemente\, una serie di queste opere\, una delle quali esposte nella personale alla CRAG Gallery\, è entrata in profonda relazione con la creatività di Pierpaolo Piccioli\, direttore creativo di Maison Valentino\, per la realizzazione di un capo di Haute Couture presentato in occasione della 17ma Mostra Internazionale di Architettura alle Gaggiandre di Venezia. \nCome ha scritto recentemente la curatrice Azzurra Immediato\, “Coster destabilizza l’ovvio attuando un originale attraversamento dell’elemento pittorico\, intervenendo sulla materia e sulla cromia con una perturbante instabilità che\, di fatto\, delinea un equilibrio inatteso. La sua poetica\, non solo formale\, procede dal privato\, da una sorta di polvere interiore\, composita e frammentata\, che nella pratica lavorativa diventa prima frammento\, infine traccia. Grazie a questa misteriosa frammentazione delle immagini\, la pittura e la poetica dell’artista giungono al coinvolgimento con il fruitore\, dove i sensi e la mente sono allertati silenziosamente ma in profondità\, e dove osservare i suoi lavori\, leggere le sue opere si trasforma in un momento comune nella personale visione interiore di ognuno”.
URL:https://cragallery.com/event/luca-coser-morgana/
CATEGORIES:Exhibitions
ATTACH;FMTTYPE=image/png:https://cragallery.com/wp-content/uploads/2021/10/Luca-Coser-2021-Morgana-acrilico-su-lino-cm-200x190-1.png
END:VEVENT
END:VCALENDAR