BEGIN:VCALENDAR
VERSION:2.0
PRODID:-//CRAG - ECPv6.15.17.1//NONSGML v1.0//EN
CALSCALE:GREGORIAN
METHOD:PUBLISH
X-ORIGINAL-URL:https://cragallery.com
X-WR-CALDESC:Events for CRAG
REFRESH-INTERVAL;VALUE=DURATION:PT1H
X-Robots-Tag:noindex
X-PUBLISHED-TTL:PT1H
BEGIN:VTIMEZONE
TZID:Europe/Rome
BEGIN:DAYLIGHT
TZOFFSETFROM:+0100
TZOFFSETTO:+0200
TZNAME:CEST
DTSTART:20190331T010000
END:DAYLIGHT
BEGIN:STANDARD
TZOFFSETFROM:+0200
TZOFFSETTO:+0100
TZNAME:CET
DTSTART:20191027T010000
END:STANDARD
BEGIN:DAYLIGHT
TZOFFSETFROM:+0100
TZOFFSETTO:+0200
TZNAME:CEST
DTSTART:20200329T010000
END:DAYLIGHT
BEGIN:STANDARD
TZOFFSETFROM:+0200
TZOFFSETTO:+0100
TZNAME:CET
DTSTART:20201025T010000
END:STANDARD
BEGIN:DAYLIGHT
TZOFFSETFROM:+0100
TZOFFSETTO:+0200
TZNAME:CEST
DTSTART:20210328T010000
END:DAYLIGHT
BEGIN:STANDARD
TZOFFSETFROM:+0200
TZOFFSETTO:+0100
TZNAME:CET
DTSTART:20211031T010000
END:STANDARD
END:VTIMEZONE
BEGIN:VEVENT
DTSTART;VALUE=DATE:20200827
DTEND;VALUE=DATE:20200928
DTSTAMP:20260423T121350
CREATED:20200821T145343Z
LAST-MODIFIED:20201119T093427Z
UID:3322-1598486400-1601251199@cragallery.com
SUMMARY:La possibilité d'une ile - Mickael Doucet
DESCRIPTION:  \n \n  \n  \n \n  \n \n  \n \n  \n \n  \n \n  \nMickael Doucet \nLa possibilité d’une ile \nSolo show \n27th August – 27th September 2020 \n  \nPRESS RELEASE (for italian version please click here Comunicato stampa Mickael Doucet) \n  \nLa possibilitè d’une ile is the title of the personal exhibition of the French artist Mickael Doucet (1974) which CRAG Gallery is pleased to host from 27th August to 27th September in via Giolitti 51\, Turin. \nThe works on display talk about an island. \nA treasure island or perhaps a lost and mysterious paradise\, for the artist a true reassuring and contemporary refuge that he identifies as a virgin place\, far from the tumult of the world. It is a place that can be both our origin and our relevance. \nThe representations are born from the artist’s desire to return to a stage of intimacy and solitude\, as a rebirth and detachment from an excessively intrusive civilisation. This journey\, full of colours and characterised by architectures and seas\, it is powered by the love for literature from which Doucet takes a cue\, also for the choice of the subjects represented. From Zeus\, to Ulysses to Thomas Moore. An Island as utopia\, as asylum. \nThis “utopian elsewhere”\, as defined by Doucet\, is offered to our eyes\, but if we look carefully it is less inaccessible than what it seems. In fact\, sometimes it is simply our home\, where we have retired far from conflict\, to think and meditate\, with the help of art and culture. \nCurator Marion Guggenheim describes Doucet’s work as “something luxurious. But the luxury of being alone in free spaces\, something rare in our urban reality.” \n  \nFor see the artworks please click here https://cragallery.com/artists/mickael-doucet/ \n  \nFor info \ninfo@cragallery.com \n+39 3351227609 \nCHIONO REISOVA ART GALLERY – CRAG \nvia Giolitti\, 51 – 10123 Torino \nwww.cragallery.com
URL:https://cragallery.com/event/la-possibilite-dune-ile-mickael-doucet/
CATEGORIES:Exhibitions
ATTACH;FMTTYPE=image/jpeg:https://cragallery.com/wp-content/uploads/2020/08/12-lautomne-des-Canaries-100-cm-x-120-cm-2020.jpg
END:VEVENT
BEGIN:VEVENT
DTSTART;TZID=Europe/Rome:20200903T080000
DTEND;TZID=Europe/Rome:20200927T170000
DTSTAMP:20260423T121350
CREATED:20200825T073130Z
LAST-MODIFIED:20201003T171316Z
UID:3328-1599120000-1601226000@cragallery.com
SUMMARY:Filippo Bosso - Ad occhio nudo
DESCRIPTION:  \nFilippo Bosso \nAd occhio nudo \nSolo Show \n  3 – 27 September 2020 \nOpening 3 – 4 – 5 September from 3.30 to 9 pm \nthe artist will be present \n  \nThe exhibition will be open everyday by appointment \nPRESS RELEASE (for the italian version Comunicato stampa Bosso 2020) \n CRAG is glad to present at the Home Gallery in via Maria Vittoria 45\, Turin\, the photographs of Filippo Bosso with the exhibition “Ad occhio nudo” from the 3rd of September 2020 to the 27th. The thirty artworks are all selected from a long journey of silent photographic practice\, away from the clamor. In the New York pictures of 1979\, it is already perceptible the research of the essential\, pursued till today\, and conducting thought of Filippo Bosso’s work. \nHis capacity of taking over the “space-time situation”\, catching just a few elements considered relevant to his eye\, is presented in three series of works: details of Shangai’s architecture\, horizons between sea and sky in Wales and refined shots of vegetal elements\, at times to the limit of the abstraction. \nThe pictures\, that with extreme quality represent the relationship of the author with the world both natural and constructed\, are solved with a freedom sense\, a thin emotion that is actually anti-rhetorical. Filippo Bosso’s work fits perfectly with a thought by Diego Mormorio “Who takes pictures thinking about the audience\, takes pictures not for himself but for the others”. \nIn his landscapes is perceived the feeling of the author facing the vastness of nature and only a few lines are needed\, the detail of a surfer in the distance or of the wind turbines on the horizon because the observer could complete the scene in his own mind imagining the hidden part. \nDuring the lockdown it was common in the art world and not only\, to reflect about the need of finding a dimension that exiles from the continuous spectacularisation of our lives and of our actions: we will understand if these reflections will find their own space and if there will be some changes. For now CRAG Gallery\, in this exhibition\, through the experience of Filippo Bosso\, invites to think again about sobriety\, aesthetic beauty and about the intimate emotional tension. \n  \nPer visionare le immagini per favore cliccare qui PHOTOGRAPHS \nPlease click here too see the  PHOTOGRAPHS  \n  \n  \nThe exhibition will be open everyday by appointment \nFor Information                                                                                                                                                              \ninfo@cragallery.com \n+39 3351227609 \n  \nCRAG HOME GALLERY \nVia Maria Vittoria\, 45 – 10123 Torino \n  \nCHIONO REISOVA ART GALLERY  \nvia Giolitti\, 51 – 10123 Torino \n 
URL:https://cragallery.com/event/filippo-bosso-ad-occhio-nudo/
CATEGORIES:Exhibitions
ATTACH;FMTTYPE=image/jpeg:https://cragallery.com/wp-content/uploads/2020/08/af-bn-6_lr-scaled.jpg
END:VEVENT
END:VCALENDAR