BEGIN:VCALENDAR
VERSION:2.0
PRODID:-//CRAG - ECPv6.15.17.1//NONSGML v1.0//EN
CALSCALE:GREGORIAN
METHOD:PUBLISH
X-WR-CALNAME:CRAG
X-ORIGINAL-URL:https://cragallery.com
X-WR-CALDESC:Events for CRAG
REFRESH-INTERVAL;VALUE=DURATION:PT1H
X-Robots-Tag:noindex
X-PUBLISHED-TTL:PT1H
BEGIN:VTIMEZONE
TZID:Europe/Rome
BEGIN:DAYLIGHT
TZOFFSETFROM:+0100
TZOFFSETTO:+0200
TZNAME:CEST
DTSTART:20190331T010000
END:DAYLIGHT
BEGIN:STANDARD
TZOFFSETFROM:+0200
TZOFFSETTO:+0100
TZNAME:CET
DTSTART:20191027T010000
END:STANDARD
BEGIN:DAYLIGHT
TZOFFSETFROM:+0100
TZOFFSETTO:+0200
TZNAME:CEST
DTSTART:20200329T010000
END:DAYLIGHT
BEGIN:STANDARD
TZOFFSETFROM:+0200
TZOFFSETTO:+0100
TZNAME:CET
DTSTART:20201025T010000
END:STANDARD
BEGIN:DAYLIGHT
TZOFFSETFROM:+0100
TZOFFSETTO:+0200
TZNAME:CEST
DTSTART:20210328T010000
END:DAYLIGHT
BEGIN:STANDARD
TZOFFSETFROM:+0200
TZOFFSETTO:+0100
TZNAME:CET
DTSTART:20211031T010000
END:STANDARD
END:VTIMEZONE
BEGIN:VEVENT
DTSTART;TZID=Europe/Rome:20200626T080000
DTEND;TZID=Europe/Rome:20200725T170000
DTSTAMP:20260423T170150
CREATED:20200623T075227Z
LAST-MODIFIED:20200925T144340Z
UID:3288-1593158400-1595696400@cragallery.com
SUMMARY:Summer Collection 2020
DESCRIPTION:  \nCRAG Gallery è lieta di inaugurare la Summer Collection 2020 dal 26 giugno al 25 luglio presentando una selezione di opere degli artisti Giacomo Modolo\, Mickael Doucet\, Alessandro Cardinale\, Oscar Contreras Rojas\, Giuliano Sale\, Yoon IlKwon\, Chen Li\, bn+BRINANOVARA\, Laura Omacini\, Diego Zangirolami\, Luca Coser\, Luca Freschi\, Liliana Cecchin\, Tomas Tichy\, Silvia Argiolas.\nVi aspettiamo! \n  \nCRAG Gallery is pleased to open the Summer Collection 2020 from the 26th of June to the 25 of July 2020 with a selection of the artists Giacomo Modolo\, Mickael Doucet\, Alessandro Cardinale\, Oscar Contreras Rojas\, Giuliano Sale\, Yoon IlKwon\, Chen Li\, bn+BRINANOVARA\, Laura Omacini\, Diego Zangirolami\, Luca Coser\, Luca Freschi\, Liliana Cecchin\, Tomas Tichy\, Silvia Argiolas.\nSee you soon!
URL:https://cragallery.com/event/summer-collection-2020/
CATEGORIES:Exhibitions
ATTACH;FMTTYPE=image/png:https://cragallery.com/wp-content/uploads/2020/04/bnBRINANOVARA-Unpredictable-Ecosystem-7-oil-on-board-varnish-wax-57-x-43-x-6-cm.png
END:VEVENT
END:VCALENDAR