BEGIN:VCALENDAR
VERSION:2.0
PRODID:-//CRAG - ECPv6.15.17.1//NONSGML v1.0//EN
CALSCALE:GREGORIAN
METHOD:PUBLISH
X-ORIGINAL-URL:https://cragallery.com
X-WR-CALDESC:Events for CRAG
REFRESH-INTERVAL;VALUE=DURATION:PT1H
X-Robots-Tag:noindex
X-PUBLISHED-TTL:PT1H
BEGIN:VTIMEZONE
TZID:Europe/Rome
BEGIN:DAYLIGHT
TZOFFSETFROM:+0100
TZOFFSETTO:+0200
TZNAME:CEST
DTSTART:20190331T010000
END:DAYLIGHT
BEGIN:STANDARD
TZOFFSETFROM:+0200
TZOFFSETTO:+0100
TZNAME:CET
DTSTART:20191027T010000
END:STANDARD
BEGIN:DAYLIGHT
TZOFFSETFROM:+0100
TZOFFSETTO:+0200
TZNAME:CEST
DTSTART:20200329T010000
END:DAYLIGHT
BEGIN:STANDARD
TZOFFSETFROM:+0200
TZOFFSETTO:+0100
TZNAME:CET
DTSTART:20201025T010000
END:STANDARD
BEGIN:DAYLIGHT
TZOFFSETFROM:+0100
TZOFFSETTO:+0200
TZNAME:CEST
DTSTART:20210328T010000
END:DAYLIGHT
BEGIN:STANDARD
TZOFFSETFROM:+0200
TZOFFSETTO:+0100
TZNAME:CET
DTSTART:20211031T010000
END:STANDARD
END:VTIMEZONE
BEGIN:VEVENT
DTSTART;TZID=Europe/Rome:20200211T080000
DTEND;TZID=Europe/Rome:20200411T170000
DTSTAMP:20260424T014217
CREATED:20200203T152742Z
LAST-MODIFIED:20230316T090922Z
UID:2761-1581408000-1586624400@cragallery.com
SUMMARY:Jiri Hauschka - The owls are not what they seem - Turin
DESCRIPTION:Jiří Hauschka \nThe owls are not what they seem \nI gufi non sono quello che sembrano \nMostra personale \n  \n 11 febbraio – 18 marzo 2020 \nInaugurazione martedì 11 febbraio dalle 17 alle 21 \nsarà presente l’artista \n  \nCOMUNICATO STAMPA (for Engl. //www.cragallery.com/event/jiri-hauschka-owls-not-seem/)  \n CRAG è lieta di presentare al pubblico torinese le opere dell’artista ceco Jiří Hauschka con la mostra “The owls are not what they seem” già presentate a novembre in occasione dell’apertura della nuova sede di CRAG a Praga.  \nLa mostra è la prima del 2020\, dall’11 febbraio al 18 marzo 2020\, in programma nella galleria di Torino e non a caso è stata scelta per il legame con il cinema. A Torino capitale del cinema 2020\, proponiamo una lettura dell’opera pittorica di Jiří Hauschka con riferimento alla celebre serie “I segreti di Twin Peaks” diretta da David Lynch dalla quale è stata tratta anche l’ispirazione per il titolo della mostra “I gufi non sono quello che sembrano”. \nL’artista si muove in una dimensione di simbiosi tra uomo e natura\, che domina fortemente la sua esistenza e produzione artistica\, influenzata dai paesaggi tipici della sua terra e del nord Europa\, tra laghi e foreste. Trattasi di una narrazione pittorica che ci trasporta ad un vero e proprio racconto di memorie\, sensazioni e visioni con al centro figure solitarie e silenziose. \nLa potenza semantica così come quella visuale riescono a coinvolgere lo spettatore\, con richiami ad artisti importanti come Tom Thomson\, Peter Doig e Daniel Richter\, riproponendo la pittura come mezzo espressivo per eccellenza. \n“Turbolente emozioni” dunque\, come scrive il curatore Martin Dostal\, “e colori che ci salvano dalla realtà\, trasportandoci nella natura intima e umana dell’artista e forse racchiusa dentro ognuno di noi”. \nLa mostra è realizzata in collaborazione con Art Lines (Repubblica Ceca) ed ha il patrocinio del Centro di Cultura Ceca di Milano. \n Per visionare le opere https://cragallery.com/artists/jiri-hauschka/ \nLa mostra sarà visitabile nell’orario della galleria da martedì a venerdì 15\,30 -19\,30 \nsabato 10.30-13.00 / 15\,30-19\,30 – ogni mattina su appuntamento
URL:https://cragallery.com/event/jiri-hauschka-owls-not-seem-turin/
LOCATION:CRAG\, via Nole\, 57\, Torino\, 10149
CATEGORIES:current,Exhibitions
ATTACH;FMTTYPE=image/jpeg:https://cragallery.com/wp-content/uploads/2019/11/The-place-I-met-120x80-cm-acrylic-on-canvas-2019.jpg
END:VEVENT
END:VCALENDAR