BEGIN:VCALENDAR
VERSION:2.0
PRODID:-//CRAG - ECPv6.15.17.1//NONSGML v1.0//EN
CALSCALE:GREGORIAN
METHOD:PUBLISH
X-ORIGINAL-URL:https://cragallery.com
X-WR-CALDESC:Events for CRAG
REFRESH-INTERVAL;VALUE=DURATION:PT1H
X-Robots-Tag:noindex
X-PUBLISHED-TTL:PT1H
BEGIN:VTIMEZONE
TZID:Europe/Rome
BEGIN:DAYLIGHT
TZOFFSETFROM:+0100
TZOFFSETTO:+0200
TZNAME:CEST
DTSTART:20180325T010000
END:DAYLIGHT
BEGIN:STANDARD
TZOFFSETFROM:+0200
TZOFFSETTO:+0100
TZNAME:CET
DTSTART:20181028T010000
END:STANDARD
BEGIN:DAYLIGHT
TZOFFSETFROM:+0100
TZOFFSETTO:+0200
TZNAME:CEST
DTSTART:20190331T010000
END:DAYLIGHT
BEGIN:STANDARD
TZOFFSETFROM:+0200
TZOFFSETTO:+0100
TZNAME:CET
DTSTART:20191027T010000
END:STANDARD
BEGIN:DAYLIGHT
TZOFFSETFROM:+0100
TZOFFSETTO:+0200
TZNAME:CEST
DTSTART:20200329T010000
END:DAYLIGHT
BEGIN:STANDARD
TZOFFSETFROM:+0200
TZOFFSETTO:+0100
TZNAME:CET
DTSTART:20201025T010000
END:STANDARD
END:VTIMEZONE
BEGIN:VEVENT
DTSTART;TZID=Europe/Rome:20190905T170000
DTEND;TZID=Europe/Rome:20190920T170000
DTSTAMP:20260424T154617
CREATED:20190821T165116Z
LAST-MODIFIED:20191212T093958Z
UID:2407-1567702800-1568998800@cragallery.com
SUMMARY:Circolare\, ciclico - Solo show by Chen Li
DESCRIPTION:  \nChen Li \nCircolare\, Ciclico \nMostra personale \nA cura di Giorgio Bena \n  \nDal 5 al 21 settembre 2019 \nInaugurazione giovedì 5 settembre dalle 17 alle 21 \nsarà presente l’artista \n  \nCOMUNICATO STAMPA \nCrag Gallery presenta i lavori della giovane artista Chen Li nella mostra personale dal titolo “Circolare\, ciclico” dal 5 al 21 settembre 2019.  \nE’ una mostra-progetto la proposta della pittrice cinese Chen Li (Beijing\, 1988)\, che nasce dalla riflessione sull’incontro tra forma ed il senso Circolare\, Ciclico. \nPiù che un’antologia di produzioni individualizzate\, il complesso dei lavori in mostra nasce come frutto di una visione semiotica e curatoriale portata avanti grazie alla sinergia tra artista\, gallerista ed il giovane curatore Giorgio Bena. \nIn Circolare\, Ciclico la forma archetipica del cerchio\, scelta come formato delle opere\, è declinata in alcuni dei suoi significati più universali come emblema cosmologico e simbolo della ciclicità del tempo: attraverso le mutazioni cromatiche dei colori acrilici sulle tele\, Chen Li dà vita ad un microcosmo che ricostruisce la ciclicità della luce solare nel corso di una giornata\, dialogando organicamente con la componente fitomorfa dei soggetti che le sono cari. \nIl rapporto tra le scelte cromatiche dell’artista e la volontà di indagare le possibilità offerte da un supporto pittorico dalle forme atipiche\, sublimano in una visione complessiva all’interno della quale\, senza perdere il proprio valore peculiare\, ogni opera concorre alla costruzione di un corpus significante. \nCircolare e ciclica è quindi la natura del tempo e della luce\, soggetti concorrenti di questo insieme di lavori\, ma è anche la natura formale ed espositiva delle opere stesse che il visitatore è invitato ad osservare. Il percorso diventa una scoperta delle variazioni del linguaggio pacato e straniante di Chen Li per entrare in una dimensione senza confini. \n  \n  \nEnglish version of the curatorial text \nAt the intersection of form and circular sense\, Ciclico is an exhibition-project by the Chinese painter Chen Li (Beijing\, 1988). More than an anthology of individualised productions\, the complex of works on show\, created during the summer of 2019\, was born as the result of a semiotic and curatorial vision carried out thanks to the synergy between artist\, gallerist and curator. The relationship between the chromatic choices of the artist and the will to investigate the possibilities offered by a pictorial support with atypical forms sublimates in an overall vision in which\, without losing its peculiar value\, each work contributes to the construction of a significant corpus.\n\nIn Circular\, the cyclical archetypal shape of the circle\, chosen as the format of the works\, is declined in some of its most universal meanings: cosmological emblem and symbol of the cyclical nature of time. Through the chromatic mutations of his canvases Chen Li gives life to a microcosm that reconstructs the cyclical nature of sunlight changes during a day\, interacting organically with the phytomorphic components of the subjects.\n\nCircular and cyclical is therefore the nature of time and light\, the main subjects of this set of works\, but also the formal and expository nature of the works themselves that the visitor is invited to observe following a path of discovery of the chromatic variations operated by the artist .\n  \n  \n  \nLa mostra sarà visitabile nell’orario della galleria da martedì a venerdì 15\,30 -19\,30 \nsabato 10.30-13.00 / 15\,30-19\,30 ogni mattina su appuntamento \n  \nPer informazioni                                                                                                                                                            \ninfo@cragallery.com \n+39 3351227609 \n  \nCHIONO REISOVA ART GALLERY – CRAG \nvia Giolitti\, 51 – 10123 Torino \nwww.cragallery.com \n  \n  \nCHEN LI  \nNata a Bejing nel 1988\, si è laureata all’Accademia di Belle Arti di Roma nel 2012. \nVive e lavora a Torino. \nPrincipali mostre: \n2019 \nCIRCOLARE\, CICLICO\, personale a cura di Giorgio Bena\, CRAG Gallery\, Torino \n2018 \nDE NATURA\, a cura di Valeria Ceregini\, Villa Vallero\, Rivarolo Canavese – Torino \n2017\nENEGANART 2017 -“Rinascita”\, finalista\, ex Refettorio di Santa Maria Novella\, Firenze \n2016\nARTEAM CUP 2016\, Palazzo del Monferrato\, Alessandria (Vincitrice del Premio Speciale Tessera Sociale Arteam 2017) \n2015\nWE ART!\, a cura di No Title Gallery\, Cantiere Barche 14\, Vicenza\nSTART UP FAIR 2015\, Lo Quarter\, Alghero \n  \n2014\nFIDENZA 1979\, a cura di “Jamais Vu”\, Palazzo delle Orsoline\, Fidenza \nAFFORDABLE ART FAIR\, Milano\, Art and Ars Gallery\, Galatina \n  \n2013\nSE IL PITTORE NON DISPREZZA LA PITTURA\, Galleria Moitre\, Torino \nPREMIO COMBAT\, finalista\, Museo Civico G. Fattori\, Livorno \n2011\nFABLES OF DECONSTRUCTION\, bipersonale con Andrea Palamà\, Underdogstudio\, Modena \n  \nAwards \n2017\nENEGANART 2017 -“Rinascita”\, finalista\, ex Refettorio di Santa Maria Novella\, Firenze\n2016\nARTEAM CUP 2016\, Palazzo del Monferrato\, Alessandria (Vincitrice del Premio Speciale Tessera Sociale Arteam 2017)\n2015\nWE ART!\, a cura di No Title Gallery\, Cantiere Barche 14\, Vicenza\n2013\nPREMIO COMBAT\, finalista\, Museo Civico G. Fattori\, Livorno\n2012\nPREMIO LISSONE\, finalista\, Museo d’Arte Contemporanea\, Lissone\nPREMIO COMBAT\, finalista\, Museo Civico G. Fattori\, Livorno \nGIORGIO BENA \nnasce in provincia di Torino (1995)\, città intorno alla quale orbitano la sua formazione accademica e professionale. Laureatosi in Beni Culturali all’Università degli Studi di Torino con una tesi in storia dell’arte contemporanea\, prosegue in questa direzione il proprio percorso magistrale nello stesso ateneo. Dopo un anno si sposta alla scuola di Progettazione Artistica per l’Impresa dell’Accademia Albertina di Torino\, con l’obiettivo di unire competenze progettuali e curatoriali. È art columnist e editor per la rivista OUTsiders Webzinenasce. \n 
URL:https://cragallery.com/event/circolare-ciclico-solo-show-chen-li/
CATEGORIES:Exhibitions
ATTACH;FMTTYPE=image/jpeg:https://cragallery.com/wp-content/uploads/2019/09/Ora-1-2019-acrilico-su-tela-ø-40-cm.jpeg
END:VEVENT
END:VCALENDAR