BEGIN:VCALENDAR
VERSION:2.0
PRODID:-//CRAG - ECPv6.15.17.1//NONSGML v1.0//EN
CALSCALE:GREGORIAN
METHOD:PUBLISH
X-ORIGINAL-URL:https://cragallery.com
X-WR-CALDESC:Events for CRAG
REFRESH-INTERVAL;VALUE=DURATION:PT1H
X-Robots-Tag:noindex
X-PUBLISHED-TTL:PT1H
BEGIN:VTIMEZONE
TZID:Europe/Rome
BEGIN:DAYLIGHT
TZOFFSETFROM:+0100
TZOFFSETTO:+0200
TZNAME:CEST
DTSTART:20180325T010000
END:DAYLIGHT
BEGIN:STANDARD
TZOFFSETFROM:+0200
TZOFFSETTO:+0100
TZNAME:CET
DTSTART:20181028T010000
END:STANDARD
BEGIN:DAYLIGHT
TZOFFSETFROM:+0100
TZOFFSETTO:+0200
TZNAME:CEST
DTSTART:20190331T010000
END:DAYLIGHT
BEGIN:STANDARD
TZOFFSETFROM:+0200
TZOFFSETTO:+0100
TZNAME:CET
DTSTART:20191027T010000
END:STANDARD
BEGIN:DAYLIGHT
TZOFFSETFROM:+0100
TZOFFSETTO:+0200
TZNAME:CEST
DTSTART:20200329T010000
END:DAYLIGHT
BEGIN:STANDARD
TZOFFSETFROM:+0200
TZOFFSETTO:+0100
TZNAME:CET
DTSTART:20201025T010000
END:STANDARD
END:VTIMEZONE
BEGIN:VEVENT
DTSTART;TZID=Europe/Rome:20190613T170000
DTEND;TZID=Europe/Rome:20190713T170000
DTSTAMP:20260425T061010
CREATED:20190531T145926Z
LAST-MODIFIED:20190604T094208Z
UID:2251-1560445200-1563037200@cragallery.com
SUMMARY:Thunder Boogie - Solo show by bn+BRINANOVARA
DESCRIPTION:  \nbn+BRINANOVARA  \nPROJECT ROOM #2 \nThunder Boogie \n  \nDal 13 giugno al 12 luglio 2019 \nInaugurazione giovedì 13 giugno 2019 ore 17 – 21 \nSaranno presenti gli artisti  \n  \nCOMUNICATO STAMPA \n“Thunder Boogie” è il titolo della Project Room#2 in occasione della quale CRAG Gallery è lieta di ospitare il collettivo bn+BRINANOVARA\, composto da Giorgio Brina (1993)\, diplomato in scultura all’Accademia di Belle Arti di Brera e Simone Novara (1994)\, laureato in pittura al Wimbledon College of Arts di Londra ed in architettura al Politecnico di Milano. \nDal 13 giugno al 12 luglio i visitatori avranno la possibilità di inoltrarsi in una realtà inusuale per la galleria\, con un allestimento caratterizzato da un progetto ­installativo di opere realizzate ad hoc\, in dialogo con lo spazio espositivo e con al centro la figura della tigre e la sua iconografia\, accompagnati dal testo di Paolo Bonacina. \nIl titolo è esplicativo: la parola tigre deriva dal termine persiano che significa fulmine. \nLa tigre si fa pretesto narrativo per il ballo della luce a contatto con i materiali giustapposti\, traendo spunto dal manto striato del felino\, in un immaginario vastissimo tra popoli e mitologie. In particolare la figura della tigre viene scomposta in molteplici aspetti e dettagli\, attraverso combinazioni formali e di materiali che da una narrazione esistente ci portano verso nuovi orizzonti. L’eleganza della tigre gioca a favore del tentativo di massima raffinatezza dei lavori\, che non rinunciano ad una qualità empatica che ne favorisca la piacevole sintonia e interazione. \nL’obiettivo della Project Room è infatti la sperimentazione e la presentazione ragionata di progetti in cui viene mostrato al pubblico come i giovani artisti lavorano e sperimentano non solo sui materiali ma anche sulle tematiche. \nNella Project Room il visitatore avrà la possibilità di esplorare diversi lavori: La paura di Narciso\, Tiny Dancer\, Boccadoro\, O Musa\, fammi provare l’ebbrezza del fulmine. \n  \nLa mostra sarà visitabile nell’orario della galleria da martedì a venerdì 15\,30 -19\,30 \nsabato 10.30-13.00 / 15\,30-19\,30 – ogni mattina su appuntamento \n  \nPer informazioni                                                                                                                                                                  \ninfo@cragallery.com \n+39 3351227609 \n  \nCHIONO REISOVA ART GALLERY – CRAG \nvia Giolitti\, 51 – 10123 Torino \nwww.cragallery.com \n  \n 
URL:https://cragallery.com/event/thunder-boogie-solo-show-bnbrinanovara/
LOCATION:CRAG\, via Nole\, 57\, Torino\, 10149
CATEGORIES:Exhibitions
ATTACH;FMTTYPE=image/png:https://cragallery.com/wp-content/uploads/2019/05/Schermata-2019-05-31-alle-16.55.02.png
END:VEVENT
END:VCALENDAR