BEGIN:VCALENDAR
VERSION:2.0
PRODID:-//CRAG - ECPv6.15.17.1//NONSGML v1.0//EN
CALSCALE:GREGORIAN
METHOD:PUBLISH
X-WR-CALNAME:CRAG
X-ORIGINAL-URL:https://cragallery.com
X-WR-CALDESC:Events for CRAG
REFRESH-INTERVAL;VALUE=DURATION:PT1H
X-Robots-Tag:noindex
X-PUBLISHED-TTL:PT1H
BEGIN:VTIMEZONE
TZID:Europe/Rome
BEGIN:DAYLIGHT
TZOFFSETFROM:+0100
TZOFFSETTO:+0200
TZNAME:CEST
DTSTART:20180325T010000
END:DAYLIGHT
BEGIN:STANDARD
TZOFFSETFROM:+0200
TZOFFSETTO:+0100
TZNAME:CET
DTSTART:20181028T010000
END:STANDARD
BEGIN:DAYLIGHT
TZOFFSETFROM:+0100
TZOFFSETTO:+0200
TZNAME:CEST
DTSTART:20190331T010000
END:DAYLIGHT
BEGIN:STANDARD
TZOFFSETFROM:+0200
TZOFFSETTO:+0100
TZNAME:CET
DTSTART:20191027T010000
END:STANDARD
BEGIN:DAYLIGHT
TZOFFSETFROM:+0100
TZOFFSETTO:+0200
TZNAME:CEST
DTSTART:20200329T010000
END:DAYLIGHT
BEGIN:STANDARD
TZOFFSETFROM:+0200
TZOFFSETTO:+0100
TZNAME:CET
DTSTART:20201025T010000
END:STANDARD
END:VTIMEZONE
BEGIN:VEVENT
DTSTART;TZID=Europe/Rome:20190503T170000
DTEND;TZID=Europe/Rome:20190601T170000
DTSTAMP:20260425T124321
CREATED:20190415T153909Z
LAST-MODIFIED:20190716T213431Z
UID:2100-1556902800-1559408400@cragallery.com
SUMMARY:Louvre. 1987 - 2017. Solo show of Daniel Pype
DESCRIPTION:per il comunicato stampa Daniel Pype in italiano per favore cliccare qui.\n  \nIN OCCASIONE DI FO.TO Fotografi a Torino apertura DOMENICA 5 MAGGIO ORE 10-12 e 15.30 – 18.30\n  \nDaniel Pype \nLOUVRE 1987 – 2017 \nSolo show in the occasion of \nFO.TO. Fotografi a Torino organised by the Museo Ettore Fico \n3rd May – 1st June 2019 \nOpening Friday 3rd May 2019 from 5 – 10 p.m. \nThe artist will be present \n    \nCrag Gallery is glad to present “Louvre 1987 – 2017” the solo show of the French photographer Daniel Pype from the 3rd May to the 1st June 2019\, in the occasion of FO.TO. Fotografi a Torino\, organised by the Museo Ettore Fico. \nDaniel Pype (1949 – Créteil\, Paris) worked as a professional photographer since he was young and went in contact with personalities from the the Parisian and international art and culture world\, such as Mirò\, Andrè Malraux\, Cesar\, Tinguely and others. \nCrag Gallery decided to exhibit for the FO.TO. event the series of photography “Louvre 1987 – 2017”\, which is the result of a curious path began by the photograph in 1987 and ended in 2017. In 1987 Daniel Pype worked at the Louvre as night watchman and moved by the silence and by the night light that pervaded the art works of the museum\, he started photographing sculptures and paintings. The results are an elegant and charming game of lights and shadows\, clears and darks\, details of the art works emphasised by the natural light of the external street lights and by the unusual framing that Pype catches with the longue exposures. The photos were kept by the artist since 2016\, when he decided to show them for the first time to the Louvre director Pierre Rosemberg\, which moved by their beauty\, encouraged him to realise a new series in 2017 with digital photography. \nIt’s interesting the comparison between the analogic photography which characterises the series of 1987 and the digital one of 2017. The results are two faces of Louvre: lights act in different ways on sculptures and paintings\, it comes out a completely new perception and how Pype’s work suggests us:” the work of Art reflects and carry the tracks of the time […] and the night\, if listened\, has the power to reveals new and beautiful secrets”. \nDuring his long career Daniel Pype has collaborated with the magazines Connaissance des Arts and L’ Art Vivant\, published by the Maeght gallery and he has collaborated for years with the Centre Pompidou. The artist is represented by the Photo 12 Gallery located in Paris\, Los Angeles and Shanghai. \n \n  \n \n  \n \n  \n \n  \n \n  \n \n  \n \n \n  \n \n  \n \n  \n \n  \n \n  \nOpening times \nTuesday-Friday 3.30 / 7.30 pm \nSaturday 10-1 / 3.30-7.30 pm \nOther days or hours by appointment
URL:https://cragallery.com/event/louvre-1987-2017/
CATEGORIES:Exhibitions
ATTACH;FMTTYPE=image/jpeg:https://cragallery.com/wp-content/uploads/2019/04/1987-Vénus-de-Milo.jpg
END:VEVENT
END:VCALENDAR