BEGIN:VCALENDAR
VERSION:2.0
PRODID:-//CRAG - ECPv6.15.17.1//NONSGML v1.0//EN
CALSCALE:GREGORIAN
METHOD:PUBLISH
X-ORIGINAL-URL:https://cragallery.com
X-WR-CALDESC:Events for CRAG
REFRESH-INTERVAL;VALUE=DURATION:PT1H
X-Robots-Tag:noindex
X-PUBLISHED-TTL:PT1H
BEGIN:VTIMEZONE
TZID:Europe/Rome
BEGIN:DAYLIGHT
TZOFFSETFROM:+0100
TZOFFSETTO:+0200
TZNAME:CEST
DTSTART:20170326T010000
END:DAYLIGHT
BEGIN:STANDARD
TZOFFSETFROM:+0200
TZOFFSETTO:+0100
TZNAME:CET
DTSTART:20171029T010000
END:STANDARD
BEGIN:DAYLIGHT
TZOFFSETFROM:+0100
TZOFFSETTO:+0200
TZNAME:CEST
DTSTART:20180325T010000
END:DAYLIGHT
BEGIN:STANDARD
TZOFFSETFROM:+0200
TZOFFSETTO:+0100
TZNAME:CET
DTSTART:20181028T010000
END:STANDARD
BEGIN:DAYLIGHT
TZOFFSETFROM:+0100
TZOFFSETTO:+0200
TZNAME:CEST
DTSTART:20190331T010000
END:DAYLIGHT
BEGIN:STANDARD
TZOFFSETFROM:+0200
TZOFFSETTO:+0100
TZNAME:CET
DTSTART:20191027T010000
END:STANDARD
END:VTIMEZONE
BEGIN:VEVENT
DTSTART;TZID=Europe/Rome:20181025T080000
DTEND;TZID=Europe/Rome:20181201T170000
DTSTAMP:20260425T164526
CREATED:20181028T074334Z
LAST-MODIFIED:20181028T074334Z
UID:1832-1540454400-1543683600@cragallery.com
SUMMARY:Une traversée sans histoire - Paul De Flers
DESCRIPTION:  \n  \nPaul de Flers \nUN TRAVERSÉE SANS HISTOIRE  \nMostra personale \n  \nDal 25 ottobre al 24 novembre 2018 \nInaugurazione 25 ottobre 2018 ore 14 – 21 \nsarà presente l’artista \n  \nApertura straordinaria durante La Notte dell’Arte Contemporanea  \n in occasione di Artissima 2018 \n  \nCOMUNICATO STAMPA \n  \nCrag Gallery presenta i lavori del giovane pittore francese Paul de Flers nella personale dal titolo “Un traversée sans histoire” dal 25 ottobre al 24 novembre 2018. \nLa mostra comprende lavori inediti dell’artista realizzati per la mostra. Il titolo richiama l’espressione francese Un traversée sans histoire\, ovvero “una traversata calma” e sta a significare che si è compiuto un viaggio\, un’avventura\, ma che\, apparentemente\, non è successo nulla di particolare. L’artista trae ispirazione dal titolo della poesia dello scrittore francese Blaise Cendrars (1887–1961)\, famoso per aver saputo intrecciare l’immaginario ed il reale nei suoi romanzi\, nei film e nelle sue poesie\, ispirandosi a numerosi viaggi e diventando così un personaggio leggendario\, amico di artisti come Modigliani\, Chagall\, Leger. \nNelle opere di Paul de Flers\, la vegetazione quasi astratta si fonde spesso con l’architettura funzionalista. L’artista\, affascinato dagli edifici di grandiosi architetti come Oscar Niemeyer\, Lina Bo Bardi e Charles Eames\, ne coglie scorci\, atmosfere e li trasferisce sulle sue tele\, privilegiando nella scelta le case in cui gli stessi architetti hanno poi abitato. I luoghi del Sud America\, in particolare del Brasile ed in Francia della Costa Azzurra (che l’artista ha visitato) sono dipinti con colori profondi e complessi\, risultato dell’utilizzo dei pigmenti che egli prepara per le sue tele e che ben rendono il clima della sua “traversata calma”. Talvolta ritroviamo anche figure appena accennate\, quasi silhouette\, di piccole dimensioni in confronto allo spazio che abitano. Ne risulta un clima sospeso\, appena distratto dal vento che scompone le fronde\, pervaso da una sottile malinconia\, raffinato ed un dialogo universale. \n  \n  \n  \nLa mostra sarà visitabile nell’orario della galleria da martedì a venerdì 15\,30 -19\,30 \nsabato 10.30-13.00 / 15\,30-19\,30 ogni mattina su appuntamento \nPer informazioni                                                                                                                                                            \ninfo@cragallery.com \n+39 3351227609 \n  \nCHIONO REISOVA ART GALLERY – CRAG \nvia Giolitti\, 51 – 10123 Torino \n 
URL:https://cragallery.com/event/une-traversee-sans-histoire-paul-de-flers/
LOCATION:CRAG\, via Nole\, 57\, Torino\, 10149
CATEGORIES:current,Exhibitions
ATTACH;FMTTYPE=image/jpeg:https://cragallery.com/wp-content/uploads/2018/10/paul-de-flers-la-casa-di-vetro-2018-110-x-150-cm-pigmenti-su-tela.jpg
END:VEVENT
END:VCALENDAR